BEGIN:VCALENDAR
VERSION:2.0
PRODID:-//Locktown Stone Church - ECPv6.15.20//NONSGML v1.0//EN
CALSCALE:GREGORIAN
METHOD:PUBLISH
X-WR-CALNAME:Locktown Stone Church
X-ORIGINAL-URL:https://locktownstonechurch.org
X-WR-CALDESC:Events for Locktown Stone Church
REFRESH-INTERVAL;VALUE=DURATION:PT1H
X-Robots-Tag:noindex
X-PUBLISHED-TTL:PT1H
BEGIN:VTIMEZONE
TZID:UTC
BEGIN:STANDARD
TZOFFSETFROM:+0000
TZOFFSETTO:+0000
TZNAME:UTC
DTSTART:20180101T000000
END:STANDARD
END:VTIMEZONE
BEGIN:VEVENT
DTSTART;TZID=UTC:20191020T160000
DTEND;TZID=UTC:20191020T170000
DTSTAMP:20260425T091531
CREATED:20190502T001321Z
LAST-MODIFIED:20191111T202040Z
UID:443-1571587200-1571590800@locktownstonechurch.org
SUMMARY:Duo Adelphi\, a harp and flute duo.
DESCRIPTION:On Sunday October 20th\, Duo Adelphi\, a harp and flute duo\, joins us. This duo consists of sisters Doris Dungan\, flutist\, and Cheryl Dungan Cunningham\, harpist. They grew up in a musical family in Bucks County and began playing together at a young age. Doris plays flute and piccolo with the Thunder Bay Symphony Orchestra in Ontario. She has been featured with the TBSO on both instruments and has been heard nationally in recital on CBC radio. Doris performs regularly with Consortium Aurora Borealis and other chamber ensembles. \nCheryl is principal harpist of the New Jersey Capital Philharmonic and Allegro: The Chamber Orchestra of Lancaster. As a member of Les Meslange des Plaisirs; The Fine Companions duo\, Voix seraphique and other ensembles\, she frequently performs a wide variety of chamber music. While maintaining separate careers\, Doris and Cheryl continue to perform together regularly and have appeared annually for many years on the Southampton Chamber Music Society series. Their performances reflect a special connection that comes from a lifetime of sharing music together. \n\n\n \n\n\nAdmission Type\n\n\nGeneral Admission $15.00 USDStudent Admission $5.00 USD \n\n\n\n\n\n\nAll our concerts being at 4 PM and last one hour. Light refreshments are served after each concert and concert attendees can meet the performers. Tickets are $15 per ticket per concert\, $40 per person for all 3 concerts\, and $5 for students per concert (I.D. required). For more information\, please check our website contact us. \nCome hear the magic sounds of this beautiful stone church for yourselves!
URL:https://locktownstonechurch.org/calendar/duo-adelphi-a-harp-and-flute-duo/
LOCATION:NJ
CATEGORIES:Recent Events
ATTACH;FMTTYPE=image/jpeg:https://locktownstonechurch.org/wp-content/uploads/2019/05/Duo-Adelphi.jpg
ORGANIZER;CN="Locktown Stone Church":MAILTO:flscconcerts@gmail.com
END:VEVENT
BEGIN:VEVENT
DTSTART;TZID=UTC:20191027T160000
DTEND;TZID=UTC:20191027T170000
DTSTAMP:20260425T091531
CREATED:20190502T002329Z
LAST-MODIFIED:20191111T202010Z
UID:448-1572192000-1572195600@locktownstonechurch.org
SUMMARY:Woodwinds Trio from the Broadway Chamber Players
DESCRIPTION:Our final concert\, on Sunday October 27\, features a Woodwinds Trio from the Broadway Chamber Players. \n\n\n \n\n\nAdmission Type\n\n\nGeneral Admission $15.00 USDStudent Admission $5.00 USD \n\n\n\n\n\n\nAll our concerts being at 4 PM and last one hour. Light refreshments are served after each concert and concert attendees can meet the performers. Tickets are $15 per ticket per concert\, $40 per person for all 3 concerts\, and $5 for students per concert (I.D. required). For more information\, please check our website contact us. \nCome hear the magic sounds of this beautiful stone church for yourselves!
URL:https://locktownstonechurch.org/calendar/woodwinds-trio-from-the-broadway-chamber-players/
LOCATION:NJ
CATEGORIES:Recent Events
ATTACH;FMTTYPE=image/png:https://locktownstonechurch.org/wp-content/uploads/2019/05/Woodwinds-Trio.png
ORGANIZER;CN="Locktown Stone Church":MAILTO:flscconcerts@gmail.com
END:VEVENT
BEGIN:VEVENT
DTSTART;TZID=UTC:20191106T193000
DTEND;TZID=UTC:20191106T203000
DTSTAMP:20260425T091531
CREATED:20190507T211454Z
LAST-MODIFIED:20191111T201938Z
UID:494-1573068600-1573072200@locktownstonechurch.org
SUMMARY:Friends of the Locktown Stone Church monthly meeting
DESCRIPTION:Friends of the Locktown Stone Church monthly meeting
URL:https://locktownstonechurch.org/calendar/friends-of-the-locktown-stone-church-monthly-meeting-6/
LOCATION:NJ
CATEGORIES:Recent Events
ATTACH;FMTTYPE=image/jpeg:https://locktownstonechurch.org/wp-content/uploads/2019/04/DSCF4039.jpg
END:VEVENT
END:VCALENDAR