BEGIN:VCALENDAR
VERSION:2.0
PRODID:-//Locktown Stone Church - ECPv6.15.20//NONSGML v1.0//EN
CALSCALE:GREGORIAN
METHOD:PUBLISH
X-WR-CALNAME:Locktown Stone Church
X-ORIGINAL-URL:https://locktownstonechurch.org
X-WR-CALDESC:Events for Locktown Stone Church
REFRESH-INTERVAL;VALUE=DURATION:PT1H
X-Robots-Tag:noindex
X-PUBLISHED-TTL:PT1H
BEGIN:VTIMEZONE
TZID:UTC
BEGIN:STANDARD
TZOFFSETFROM:+0000
TZOFFSETTO:+0000
TZNAME:UTC
DTSTART:20180101T000000
END:STANDARD
END:VTIMEZONE
BEGIN:VEVENT
DTSTART;TZID=UTC:20191013T160000
DTEND;TZID=UTC:20191013T170000
DTSTAMP:20260423T203656
CREATED:20190502T000450Z
LAST-MODIFIED:20191111T202025Z
UID:439-1570982400-1570986000@locktownstonechurch.org
SUMMARY:Classical guitarist Francisco Roldan. Mr. Roldan
DESCRIPTION:On Sunday October 13\, we welcome classical guitarist Francisco Roldan. Mr. Roldan has performed in Portugal\, Greece\, Russia\, Spain\, Colombia\, Argentina\, the Dominican Republic\,\nLithuania and Paraguay as well as throughout the U.S.\, including concerts at Merkin Hall\, Alice Tully Hall\, Weill Recital Hall\, for Lincoln Center’s Local Live Concerts and Artists Outreach Programs\, Bargemusic\, Wave Hill Gardens\, CAMI Hall\, the Metropolitan Museum of Art\, Mannes Guitar Festival\, Symphony Space\, Riverside Church (Christ Chapel) and the Mid-Hudson Classical Guitar Society in New York\, Harmony Hall in Maryland\, St. Paul’s Episcopal Church in Milwaukee\, ArtsQuest and MusikFest in Pennsylvania\, for the Philadelphia Guitar Society\, the New Jersey Chamber Music Society\, the Puffin Gallery\, the Colombian Consulates in New York and Boston\, the Smithsonian Library\, the Museum of the City of New York\, Round Top Music Festival\, the Spanish Institute\, Gracie Mansion\, and at the Americas Society\, as well as at various universities and libraries. \n\n\n \n\n\nAdmission Type\n\n\nGeneral Admission $15.00 USDStudent Admission $5.00 USD \n\n\n\n\n\n\nAll our concerts being at 4 PM and last one hour. Light refreshments are served after each concert and concert attendees can meet the performers. Tickets are $15 per ticket per concert\, $40 per person for all 3 concerts\, and $5 for students per concert (I.D. required). For more information\, please check our website\, www.locktownstonechurch.org\, or call (908) 996-3087. We look forward to seeing our returning friends\, and meeting new concert goers. \nCome hear the magic sounds of this beautiful stone church for yourselves!
URL:https://locktownstonechurch.org/calendar/classical-guitarist-francisco-roldan-mr-roldan/
LOCATION:Locktown Stone Church\, 323 Locktown-Sergeantsville Road\, Flemington\, NJ\, 08822\, United States
CATEGORIES:Recent Events
ATTACH;FMTTYPE=image/jpeg:https://locktownstonechurch.org/wp-content/uploads/2019/05/Francisco-Roldan.jpg
ORGANIZER;CN="Locktown Stone Church":MAILTO:flscconcerts@gmail.com
END:VEVENT
END:VCALENDAR