BEGIN:VCALENDAR
VERSION:2.0
PRODID:-//Locktown Stone Church - ECPv6.15.20//NONSGML v1.0//EN
CALSCALE:GREGORIAN
METHOD:PUBLISH
X-ORIGINAL-URL:https://locktownstonechurch.org
X-WR-CALDESC:Events for Locktown Stone Church
REFRESH-INTERVAL;VALUE=DURATION:PT1H
X-Robots-Tag:noindex
X-PUBLISHED-TTL:PT1H
BEGIN:VTIMEZONE
TZID:UTC
BEGIN:STANDARD
TZOFFSETFROM:+0000
TZOFFSETTO:+0000
TZNAME:UTC
DTSTART:20180101T000000
END:STANDARD
END:VTIMEZONE
BEGIN:VEVENT
DTSTART;TZID=UTC:20190606T080000
DTEND;TZID=UTC:20190606T170000
DTSTAMP:20260424T031559
CREATED:20190507T205645Z
LAST-MODIFIED:20191111T202205Z
UID:482-1559808000-1559840400@locktownstonechurch.org
SUMMARY:Delaware Valley Regional High School Choral Concert
DESCRIPTION:Delaware Valley Regional High School Choral Concert
URL:https://locktownstonechurch.org/calendar/delaware-valley-regional-high-school-choral-concert/
CATEGORIES:Recent Events
ATTACH;FMTTYPE=image/png:https://locktownstonechurch.org/wp-content/uploads/2019/05/DVRHS-Logo.png
END:VEVENT
END:VCALENDAR