BEGIN:VCALENDAR
VERSION:2.0
PRODID:-//Locktown Stone Church - ECPv6.15.20//NONSGML v1.0//EN
CALSCALE:GREGORIAN
METHOD:PUBLISH
X-WR-CALNAME:Locktown Stone Church
X-ORIGINAL-URL:https://locktownstonechurch.org
X-WR-CALDESC:Events for Locktown Stone Church
REFRESH-INTERVAL;VALUE=DURATION:PT1H
X-Robots-Tag:noindex
X-PUBLISHED-TTL:PT1H
BEGIN:VTIMEZONE
TZID:UTC
BEGIN:STANDARD
TZOFFSETFROM:+0000
TZOFFSETTO:+0000
TZNAME:UTC
DTSTART:20180101T000000
END:STANDARD
END:VTIMEZONE
BEGIN:VEVENT
DTSTART;TZID=UTC:20190904T193000
DTEND;TZID=UTC:20190904T203000
DTSTAMP:20260423T203405
CREATED:20190507T211154Z
LAST-MODIFIED:20191111T202116Z
UID:490-1567625400-1567629000@locktownstonechurch.org
SUMMARY:Friends of the Locktown Stone Church monthly meeting
DESCRIPTION:Friends of the Locktown Stone Church monthly meeting
URL:https://locktownstonechurch.org/calendar/friends-of-the-locktown-stone-church-monthly-meeting-4/
LOCATION:Locktown Stone Church\, 323 Locktown-Sergeantsville Road\, Flemington\, NJ\, 08822\, United States
CATEGORIES:Recent Events
ATTACH;FMTTYPE=image/jpeg:https://locktownstonechurch.org/wp-content/uploads/2019/04/DSCF4039.jpg
ORGANIZER;CN="Locktown Stone Church":MAILTO:flscconcerts@gmail.com
END:VEVENT
END:VCALENDAR