BEGIN:VCALENDAR
VERSION:2.0
PRODID:-//Locktown Stone Church - ECPv6.15.20//NONSGML v1.0//EN
CALSCALE:GREGORIAN
METHOD:PUBLISH
X-WR-CALNAME:Locktown Stone Church
X-ORIGINAL-URL:https://locktownstonechurch.org
X-WR-CALDESC:Events for Locktown Stone Church
REFRESH-INTERVAL;VALUE=DURATION:PT1H
X-Robots-Tag:noindex
X-PUBLISHED-TTL:PT1H
BEGIN:VTIMEZONE
TZID:UTC
BEGIN:STANDARD
TZOFFSETFROM:+0000
TZOFFSETTO:+0000
TZNAME:UTC
DTSTART:20180101T000000
END:STANDARD
END:VTIMEZONE
BEGIN:VEVENT
DTSTART;TZID=UTC:20191206T190000
DTEND;TZID=UTC:20191206T210000
DTSTAMP:20260422T111642
CREATED:20191111T201810Z
LAST-MODIFIED:20191111T203651Z
UID:1007-1575658800-1575666000@locktownstonechurch.org
SUMMARY:DVHS Choral Christmas Concert
DESCRIPTION:On Friday Dec. 6 at 7:00 p.m. the DVHS Choral Program will present a Christmas Concert.\nThe cost is $10.00 at the door. There will be hot beverages and snacks for sale outside before the the Concert.
URL:https://locktownstonechurch.org/calendar/dvhs-choral-christmas-concert/
LOCATION:Locktown Stone Church\, 323 Locktown-Sergeantsville Road\, Flemington\, NJ\, 08822\, United States
CATEGORIES:Fall 2019 Concert Series,Upcoming Events
ORGANIZER;CN="Locktown Stone Church":MAILTO:flscconcerts@gmail.com
END:VEVENT
END:VCALENDAR